BEGIN:VCALENDAR
VERSION:2.0
PRODID:-//Portsmouth North Rotary - ECPv6.15.20//NONSGML v1.0//EN
CALSCALE:GREGORIAN
METHOD:PUBLISH
X-WR-CALNAME:Portsmouth North Rotary
X-ORIGINAL-URL:https://rotaryportsmouthnorth.co.uk
X-WR-CALDESC:Events for Portsmouth North Rotary
REFRESH-INTERVAL;VALUE=DURATION:PT1H
X-Robots-Tag:noindex
X-PUBLISHED-TTL:PT1H
BEGIN:VTIMEZONE
TZID:UTC
BEGIN:STANDARD
TZOFFSETFROM:+0000
TZOFFSETTO:+0000
TZNAME:UTC
DTSTART:20230101T000000
END:STANDARD
END:VTIMEZONE
BEGIN:VEVENT
DTSTART;TZID=UTC:20240612T180000
DTEND;TZID=UTC:20240612T203000
DTSTAMP:20260422T221544
CREATED:20240521T000348Z
LAST-MODIFIED:20240521T001900Z
UID:239520-1718215200-1718224200@rotaryportsmouthnorth.co.uk
SUMMARY:Wednesday Meeting - Speaker Bill Lock
DESCRIPTION:Our speaker is Bill Lock – Everything you always wanted to know about Shipping Containers.\nHost: Michael Thomas \nMenu: Chicken Stilton & Sage // Sticky Toffee Pudding & Custard
URL:https://rotaryportsmouthnorth.co.uk/event/wednesday-meeting-speaker-david-fortey
LOCATION:Lee on Solent Golf Club\, Brune Lane\,\, Lee-on-the-Solent\, Hampshire\, PO13 9PB\, United Kingdom
END:VEVENT
BEGIN:VEVENT
DTSTART;TZID=UTC:20240605T180000
DTEND;TZID=UTC:20240605T203000
DTSTAMP:20260422T221544
CREATED:20240521T001406Z
LAST-MODIFIED:20240521T001523Z
UID:239524-1717610400-1717619400@rotaryportsmouthnorth.co.uk
SUMMARY:Wednesday Meeting - Speaker David Fortey
DESCRIPTION:Our speaker is David Fortey – Everything you always wanted to know about Shipping Containers. \nHost: TBA Menu: Chef’s Choice Of Pate // Turkey Fillet
URL:https://rotaryportsmouthnorth.co.uk/event/wednesday-meeting-speaker-david-fortey-2
LOCATION:Lee on Solent Golf Club\, Brune Lane\,\, Lee-on-the-Solent\, Hampshire\, PO13 9PB\, United Kingdom
END:VEVENT
BEGIN:VEVENT
DTSTART;TZID=UTC:20240529T180000
DTEND;TZID=UTC:20240529T203000
DTSTAMP:20260422T221544
CREATED:20240521T000012Z
LAST-MODIFIED:20240521T000012Z
UID:239516-1717005600-1717014600@rotaryportsmouthnorth.co.uk
SUMMARY:Wednesday Meeting - The Wheatsheaf Tichfield
DESCRIPTION:Evening meeting at The Wheatsheaf\, Tichfield
URL:https://rotaryportsmouthnorth.co.uk/event/wednesday-meeting-the-wheatsheaf-tichfield
LOCATION:The Wheatsheaf\, 1 East Street\, Tichfield\, Hampshire\, PO14 4AD\, United Kingdom
END:VEVENT
BEGIN:VEVENT
DTSTART;TZID=UTC:20240522T180000
DTEND;TZID=UTC:20240522T203000
DTSTAMP:20260422T221544
CREATED:20240520T234403Z
LAST-MODIFIED:20240520T234403Z
UID:239513-1716400800-1716409800@rotaryportsmouthnorth.co.uk
SUMMARY:Wednesday Meeting - AGM
DESCRIPTION:We will be holing our Annual General Meeting. \nMenu: Cottage Pie // Eton Mess
URL:https://rotaryportsmouthnorth.co.uk/event/wednesday-meeting-agm
LOCATION:Lee on Solent Golf Club\, Brune Lane\,\, Lee-on-the-Solent\, Hampshire\, PO13 9PB\, United Kingdom
END:VEVENT
END:VCALENDAR