BEGIN:VCALENDAR
VERSION:2.0
PRODID:-//Portsmouth North Rotary - ECPv6.15.20//NONSGML v1.0//EN
CALSCALE:GREGORIAN
METHOD:PUBLISH
X-WR-CALNAME:Portsmouth North Rotary
X-ORIGINAL-URL:https://rotaryportsmouthnorth.co.uk
X-WR-CALDESC:Events for Portsmouth North Rotary
REFRESH-INTERVAL;VALUE=DURATION:PT1H
X-Robots-Tag:noindex
X-PUBLISHED-TTL:PT1H
BEGIN:VTIMEZONE
TZID:UTC
BEGIN:STANDARD
TZOFFSETFROM:+0000
TZOFFSETTO:+0000
TZNAME:UTC
DTSTART:20230101T000000
END:STANDARD
END:VTIMEZONE
BEGIN:VEVENT
DTSTART;TZID=UTC:20250424T190000
DTEND;TZID=UTC:20250424T210000
DTSTAMP:20260422T221622
CREATED:20250313T094800Z
LAST-MODIFIED:20250416T164017Z
UID:239917-1745521200-1745528400@rotaryportsmouthnorth.co.uk
SUMMARY:Connors Toy Library
DESCRIPTION:Karen Drayton speaking about the charity \nHost Kerrison Preston – Kerrison will host the speaker. \nMenu: Cumberland Sausage Mashed Potatoes\, red onion and mushroom gravy\, mixed seasonal vegetables and Yorkshire pudding. Ice Cream or Cheese and Biscuits.
URL:https://rotaryportsmouthnorth.co.uk/event/connors-toy-library
LOCATION:Langstone Resort Hotel\, Northeny Road\, Hayling Island\, PO110NQ\, United Kingdom
END:VEVENT
BEGIN:VEVENT
DTSTART;TZID=UTC:20250417T190000
DTEND;TZID=UTC:20250417T210000
DTSTAMP:20260422T221622
CREATED:20250313T131255Z
LAST-MODIFIED:20250414T084324Z
UID:239932-1744916400-1744923600@rotaryportsmouthnorth.co.uk
SUMMARY:Thursday Meeting - Fellowship
DESCRIPTION:Thursday Meeting – Fellowship \nMenu: 8oz Gammon Steak\, chips and egg.
URL:https://rotaryportsmouthnorth.co.uk/event/thursday-meeting-fellowship-2
LOCATION:Langstone Resort Hotel\, Northeny Road\, Hayling Island\, PO110NQ\, United Kingdom
END:VEVENT
BEGIN:VEVENT
DTSTART;TZID=UTC:20250410T190000
DTEND;TZID=UTC:20250410T210000
DTSTAMP:20260422T221622
CREATED:20250313T130015Z
LAST-MODIFIED:20250328T150424Z
UID:239925-1744311600-1744318800@rotaryportsmouthnorth.co.uk
SUMMARY:Rotary AGM
DESCRIPTION:Thursday Meeting AGM Hosted by Adrian Brooks.
URL:https://rotaryportsmouthnorth.co.uk/event/thursday-meeting-agm-as-part-of-business-meeting
LOCATION:Langstone Resort Hotel\, Northeny Road\, Hayling Island\, PO110NQ\, United Kingdom
END:VEVENT
BEGIN:VEVENT
DTSTART;TZID=UTC:20250403T190000
DTEND;TZID=UTC:20250403T210000
DTSTAMP:20260422T221622
CREATED:20250313T125806Z
LAST-MODIFIED:20250328T150336Z
UID:239923-1743706800-1743714000@rotaryportsmouthnorth.co.uk
SUMMARY:Corporate Business Partners Meeting and Business Meeting
DESCRIPTION:Corporate Business Partners introduction evening and Business Meeting \nHost Adrian Brooks
URL:https://rotaryportsmouthnorth.co.uk/event/thursday-meeting-members-golf-meeting
LOCATION:Langstone Resort Hotel\, Northeny Road\, Hayling Island\, PO110NQ\, United Kingdom
END:VEVENT
BEGIN:VEVENT
DTSTART;TZID=UTC:20250320T190000
DTEND;TZID=UTC:20250320T210000
DTSTAMP:20260422T221622
CREATED:20250222T015618Z
LAST-MODIFIED:20250313T130141Z
UID:239716-1742497200-1742504400@rotaryportsmouthnorth.co.uk
SUMMARY:Thursday meeting Speaker Dr Kellyn Lee
DESCRIPTION:Thursday meeting Speaker Dr Kellyn Lee – CPsychol\, PhD\nFounder and CEO\nThe Dementia Care Hub
URL:https://rotaryportsmouthnorth.co.uk/event/thursday-meeting-speaker-dr-kellyn-lee
LOCATION:Langstone Resort Hotel\, Northeny Road\, Hayling Island\, PO110NQ\, United Kingdom
ATTACH;FMTTYPE=image/jpeg:https://rotaryportsmouthnorth.co.uk/wp-content/uploads/2025/02/dementiacarehub.jpg
END:VEVENT
BEGIN:VEVENT
DTSTART;TZID=UTC:20250313T190000
DTEND;TZID=UTC:20250313T210000
DTSTAMP:20260422T221622
CREATED:20250222T014933Z
LAST-MODIFIED:20250313T130108Z
UID:239714-1741892400-1741899600@rotaryportsmouthnorth.co.uk
SUMMARY:Thursday meeting - Business
DESCRIPTION:Thursday meeting – Business
URL:https://rotaryportsmouthnorth.co.uk/event/thursday-meeting-business
LOCATION:Langstone Resort Hotel\, Northeny Road\, Hayling Island\, PO110NQ\, United Kingdom
END:VEVENT
BEGIN:VEVENT
DTSTART;TZID=UTC:20250306T180000
DTEND;TZID=UTC:20250306T203000
DTSTAMP:20260422T221622
CREATED:20250222T014404Z
LAST-MODIFIED:20250222T014755Z
UID:239711-1741284000-1741293000@rotaryportsmouthnorth.co.uk
SUMMARY:Thursday Meeting Charity Golf Day Meeting
DESCRIPTION:Thursday Meeting Charity Golf Day Meeting – Host Geoff White
URL:https://rotaryportsmouthnorth.co.uk/event/thursday-meeting-charity-golf-day-meeting
LOCATION:Langstone Resort Hotel\, Northeny Road\, Hayling Island\, PO110NQ\, United Kingdom
ATTACH;FMTTYPE=image/jpeg:https://rotaryportsmouthnorth.co.uk/wp-content/uploads/2025/02/Rowlands.jpg
END:VEVENT
BEGIN:VEVENT
DTSTART;TZID=UTC:20250303T080000
DTEND;TZID=UTC:20250303T170000
DTSTAMP:20260422T221622
CREATED:20250222T015914Z
LAST-MODIFIED:20250222T015914Z
UID:239721-1740988800-1741021200@rotaryportsmouthnorth.co.uk
SUMMARY:Club Council
DESCRIPTION:Club Council meeting at Material Things Office
URL:https://rotaryportsmouthnorth.co.uk/event/club-council
END:VEVENT
BEGIN:VEVENT
DTSTART;TZID=UTC:20250227T180000
DTEND;TZID=UTC:20250227T203000
DTSTAMP:20260422T221622
CREATED:20250222T014218Z
LAST-MODIFIED:20250222T014218Z
UID:239709-1740679200-1740688200@rotaryportsmouthnorth.co.uk
SUMMARY:Thursday Club Meeting  -  Kerrison Preston "My Job Talk"
DESCRIPTION:Thursday Club Meeting – Kerrison Preston “My Job Talk” \nLadies Welcome
URL:https://rotaryportsmouthnorth.co.uk/event/thursday-club-meeting-kerrison-preston-my-job-talk
LOCATION:Langstone Resort Hotel\, Northeny Road\, Hayling Island\, PO110NQ\, United Kingdom
END:VEVENT
BEGIN:VEVENT
DTSTART;TZID=UTC:20250222T080000
DTEND;TZID=UTC:20250222T170000
DTSTAMP:20260422T221622
CREATED:20250222T015655Z
LAST-MODIFIED:20250222T015655Z
UID:239719-1740211200-1740243600@rotaryportsmouthnorth.co.uk
SUMMARY:Thursday Meeting - Fellowship
DESCRIPTION:Thursday Meeting – Fellowship
URL:https://rotaryportsmouthnorth.co.uk/event/thursday-meeting-fellowship
END:VEVENT
BEGIN:VEVENT
DTSTART;TZID=UTC:20241219T180000
DTEND;TZID=UTC:20241219T223000
DTSTAMP:20260422T221622
CREATED:20241115T103635Z
LAST-MODIFIED:20241115T103635Z
UID:239645-1734631200-1734647400@rotaryportsmouthnorth.co.uk
SUMMARY:Christmas Party
DESCRIPTION:A celebration event that welcomes the family of Rotary in Portsmouth North
URL:https://rotaryportsmouthnorth.co.uk/event/christmas-party
LOCATION:Langstone Resort Hotel\, Northeny Road\, Hayling Island\, PO110NQ\, United Kingdom
END:VEVENT
BEGIN:VEVENT
DTSTART;TZID=UTC:20241121T070000
DTEND;TZID=UTC:20241121T213000
DTSTAMP:20260422T221622
CREATED:20241008T092532Z
LAST-MODIFIED:20241008T092532Z
UID:239616-1732172400-1732224600@rotaryportsmouthnorth.co.uk
SUMMARY:Sophies Legacy
DESCRIPTION:Sophies Legacy A local Charity set up by Carlotte Fairall to accoummodate Parents with sick children in hospital
URL:https://rotaryportsmouthnorth.co.uk/event/sophies-legacy
LOCATION:Langstone Resort Hotel\, Northeny Road\, Hayling Island\, PO110NQ\, United Kingdom
END:VEVENT
BEGIN:VEVENT
DTSTART;TZID=UTC:20241024T063000
DTEND;TZID=UTC:20241024T213000
DTSTAMP:20260422T221622
CREATED:20241008T091758Z
LAST-MODIFIED:20241008T091758Z
UID:239612-1729751400-1729805400@rotaryportsmouthnorth.co.uk
SUMMARY:Skittles evening
DESCRIPTION:An enjoyable meeting at the Barley Mow Pub\, Walderton
URL:https://rotaryportsmouthnorth.co.uk/event/skittles-evening
LOCATION:Barley Mow\, Walderton\, PO189ED
END:VEVENT
BEGIN:VEVENT
DTSTART;TZID=UTC:20240619T180000
DTEND;TZID=UTC:20240619T203000
DTSTAMP:20260422T221622
CREATED:20240521T002351Z
LAST-MODIFIED:20240521T002526Z
UID:239528-1718820000-1718829000@rotaryportsmouthnorth.co.uk
SUMMARY:Wednesday Meeting - Club Assembly
DESCRIPTION:The Club Assembly is where we lay out the plans for the next Rotary year. \nMenu: Mushrooms & Stilton // Roasted Loin Of Pork
URL:https://rotaryportsmouthnorth.co.uk/event/wednesday-meeting-club-assembly
LOCATION:The Wheatsheaf\, 1 East Street\, Tichfield\, Hampshire\, PO14 4AD\, United Kingdom
END:VEVENT
BEGIN:VEVENT
DTSTART;TZID=UTC:20240612T180000
DTEND;TZID=UTC:20240612T203000
DTSTAMP:20260422T221622
CREATED:20240521T000348Z
LAST-MODIFIED:20240521T001900Z
UID:239520-1718215200-1718224200@rotaryportsmouthnorth.co.uk
SUMMARY:Wednesday Meeting - Speaker Bill Lock
DESCRIPTION:Our speaker is Bill Lock – Everything you always wanted to know about Shipping Containers.\nHost: Michael Thomas \nMenu: Chicken Stilton & Sage // Sticky Toffee Pudding & Custard
URL:https://rotaryportsmouthnorth.co.uk/event/wednesday-meeting-speaker-david-fortey
LOCATION:Lee on Solent Golf Club\, Brune Lane\,\, Lee-on-the-Solent\, Hampshire\, PO13 9PB\, United Kingdom
END:VEVENT
BEGIN:VEVENT
DTSTART;TZID=UTC:20240605T180000
DTEND;TZID=UTC:20240605T203000
DTSTAMP:20260422T221622
CREATED:20240521T001406Z
LAST-MODIFIED:20240521T001523Z
UID:239524-1717610400-1717619400@rotaryportsmouthnorth.co.uk
SUMMARY:Wednesday Meeting - Speaker David Fortey
DESCRIPTION:Our speaker is David Fortey – Everything you always wanted to know about Shipping Containers. \nHost: TBA Menu: Chef’s Choice Of Pate // Turkey Fillet
URL:https://rotaryportsmouthnorth.co.uk/event/wednesday-meeting-speaker-david-fortey-2
LOCATION:Lee on Solent Golf Club\, Brune Lane\,\, Lee-on-the-Solent\, Hampshire\, PO13 9PB\, United Kingdom
END:VEVENT
BEGIN:VEVENT
DTSTART;TZID=UTC:20240529T180000
DTEND;TZID=UTC:20240529T203000
DTSTAMP:20260422T221622
CREATED:20240521T000012Z
LAST-MODIFIED:20240521T000012Z
UID:239516-1717005600-1717014600@rotaryportsmouthnorth.co.uk
SUMMARY:Wednesday Meeting - The Wheatsheaf Tichfield
DESCRIPTION:Evening meeting at The Wheatsheaf\, Tichfield
URL:https://rotaryportsmouthnorth.co.uk/event/wednesday-meeting-the-wheatsheaf-tichfield
LOCATION:The Wheatsheaf\, 1 East Street\, Tichfield\, Hampshire\, PO14 4AD\, United Kingdom
END:VEVENT
BEGIN:VEVENT
DTSTART;TZID=UTC:20240522T180000
DTEND;TZID=UTC:20240522T203000
DTSTAMP:20260422T221622
CREATED:20240520T234403Z
LAST-MODIFIED:20240520T234403Z
UID:239513-1716400800-1716409800@rotaryportsmouthnorth.co.uk
SUMMARY:Wednesday Meeting - AGM
DESCRIPTION:We will be holing our Annual General Meeting. \nMenu: Cottage Pie // Eton Mess
URL:https://rotaryportsmouthnorth.co.uk/event/wednesday-meeting-agm
LOCATION:Lee on Solent Golf Club\, Brune Lane\,\, Lee-on-the-Solent\, Hampshire\, PO13 9PB\, United Kingdom
END:VEVENT
END:VCALENDAR