BEGIN:VCALENDAR
VERSION:2.0
PRODID:-//Portsmouth North Rotary - ECPv6.15.20//NONSGML v1.0//EN
CALSCALE:GREGORIAN
METHOD:PUBLISH
X-WR-CALNAME:Portsmouth North Rotary
X-ORIGINAL-URL:https://rotaryportsmouthnorth.co.uk
X-WR-CALDESC:Events for Portsmouth North Rotary
REFRESH-INTERVAL;VALUE=DURATION:PT1H
X-Robots-Tag:noindex
X-PUBLISHED-TTL:PT1H
BEGIN:VTIMEZONE
TZID:UTC
BEGIN:STANDARD
TZOFFSETFROM:+0000
TZOFFSETTO:+0000
TZNAME:UTC
DTSTART:20240101T000000
END:STANDARD
END:VTIMEZONE
BEGIN:VEVENT
DTSTART;TZID=UTC:20251002T190000
DTEND;TZID=UTC:20251002T210000
DTSTAMP:20260421T180254
CREATED:20250614T182223Z
LAST-MODIFIED:20250614T182223Z
UID:240281-1759431600-1759438800@rotaryportsmouthnorth.co.uk
SUMMARY:Fellowship Meeting
DESCRIPTION:Fellowship Meeting – Suggest – Discuss and agree a beneficial Charity for Golf Day 2026.
URL:https://rotaryportsmouthnorth.co.uk/event/fellowship-meeting-7
LOCATION:Langstone Resort Hotel\, Northeny Road\, Hayling Island\, PO110NQ\, United Kingdom
END:VEVENT
BEGIN:VEVENT
DTSTART;TZID=UTC:20250925T190000
DTEND;TZID=UTC:20250925T213000
DTSTAMP:20260421T180254
CREATED:20250614T181559Z
LAST-MODIFIED:20250808T161922Z
UID:240277-1758826800-1758835800@rotaryportsmouthnorth.co.uk
SUMMARY:Speaker: Dr. Frances Hurd 'Secrets and Lies'
DESCRIPTION:Dr Frances Hurd will be speaking this evening\, Our Ladies and Partners are invited to this event. The Speaker will be hosted by Colin Barrell
URL:https://rotaryportsmouthnorth.co.uk/event/speaker-dr-frances-hurd-secrets-and-lies
LOCATION:Langstone Resort Hotel\, Northeny Road\, Hayling Island\, PO110NQ\, United Kingdom
END:VEVENT
BEGIN:VEVENT
DTSTART;TZID=UTC:20250922T183000
DTEND;TZID=UTC:20250922T210000
DTSTAMP:20260421T180254
CREATED:20250905T102705Z
LAST-MODIFIED:20250905T102758Z
UID:240470-1758565800-1758574800@rotaryportsmouthnorth.co.uk
SUMMARY:Visit - Havant Rotary Club
DESCRIPTION:Monday 22nd September we have been invited to attend the Business Meeting at havant Rotary. \nThe meeting will be held at The Bear Hotel\, Havant. and  will start at 6.30pm and finish at 9.00pm. The menu will be advised nearer the time.
URL:https://rotaryportsmouthnorth.co.uk/event/visti-to-havant-rotary-club
LOCATION:The Bear Hotel\, Havant.\, East Street\, Havant\, PO91AE
END:VEVENT
BEGIN:VEVENT
DTSTART;TZID=UTC:20250918T190000
DTEND;TZID=UTC:20250918T210000
DTSTAMP:20260421T180254
CREATED:20250614T171950Z
LAST-MODIFIED:20250614T171950Z
UID:240274-1758222000-1758229200@rotaryportsmouthnorth.co.uk
SUMMARY:Fellowship Meeting
DESCRIPTION:Fellowship Meeting
URL:https://rotaryportsmouthnorth.co.uk/event/fellowship-meeting-6
LOCATION:Langstone Resort Hotel\, Northeny Road\, Hayling Island\, PO110NQ\, United Kingdom
END:VEVENT
BEGIN:VEVENT
DTSTART;TZID=UTC:20250911T190000
DTEND;TZID=UTC:20250911T210000
DTSTAMP:20260421T180254
CREATED:20250507T165245Z
LAST-MODIFIED:20250507T165245Z
UID:240236-1757617200-1757624400@rotaryportsmouthnorth.co.uk
SUMMARY:Business Meeting
DESCRIPTION:
URL:https://rotaryportsmouthnorth.co.uk/event/business-meeting-3
END:VEVENT
BEGIN:VEVENT
DTSTART;TZID=UTC:20250908T160000
DTEND;TZID=UTC:20250908T183000
DTSTAMP:20260421T180254
CREATED:20250808T161204Z
LAST-MODIFIED:20250808T161204Z
UID:240396-1757347200-1757356200@rotaryportsmouthnorth.co.uk
SUMMARY:Club Council Meeting
DESCRIPTION:The Club Council meeting this month will be held at Malcolm’s house\, 68 Bowes Hill\, Rowlands Castle.
URL:https://rotaryportsmouthnorth.co.uk/event/club-council-meeting-2
LOCATION:68 Bowes Hill\, Rowlands Castle.
END:VEVENT
BEGIN:VEVENT
DTSTART;TZID=UTC:20250904T190000
DTEND;TZID=UTC:20250904T213000
DTSTAMP:20260421T180254
CREATED:20250614T171640Z
LAST-MODIFIED:20250708T123238Z
UID:240270-1757012400-1757021400@rotaryportsmouthnorth.co.uk
SUMMARY:Speaker: Run for your life.
DESCRIPTION:Our Ladies and Partners will be invited to this event. David Jones will be giving the members this talk\, hosted by the President.
URL:https://rotaryportsmouthnorth.co.uk/event/speaker-run-for-your-life
LOCATION:Langstone Resort Hotel\, Northeny Road\, Hayling Island\, PO110NQ\, United Kingdom
END:VEVENT
BEGIN:VEVENT
DTSTART;TZID=UTC:20250828T190000
DTEND;TZID=UTC:20250828T210000
DTSTAMP:20260421T180254
CREATED:20250708T123606Z
LAST-MODIFIED:20250708T123606Z
UID:240346-1756407600-1756414800@rotaryportsmouthnorth.co.uk
SUMMARY:Fellowship Meeting
DESCRIPTION:
URL:https://rotaryportsmouthnorth.co.uk/event/fellowship-meeting-3
LOCATION:Langstone Resort Hotel\, Northeny Road\, Hayling Island\, PO110NQ\, United Kingdom
END:VEVENT
BEGIN:VEVENT
DTSTART;TZID=UTC:20250821T190000
DTEND;TZID=UTC:20250821T213000
DTSTAMP:20260421T180254
CREATED:20250708T123048Z
LAST-MODIFIED:20250808T161403Z
UID:240344-1755802800-1755811800@rotaryportsmouthnorth.co.uk
SUMMARY:Speaker: Dr Carl Anandan
DESCRIPTION:Dr Carl Anandan will be giving a basic chat on hemostasis  and some compounding factors. Carl has joined us a couple of times and is a prospective new member. Our ladies and partners will be invited. IPP Malcolm will host Carl on the evening.
URL:https://rotaryportsmouthnorth.co.uk/event/speaker-dr-cal-anandan
LOCATION:Langstone Resort Hotel\, Northeny Road\, Hayling Island\, PO110NQ\, United Kingdom
END:VEVENT
BEGIN:VEVENT
DTSTART;TZID=UTC:20250814T190000
DTEND;TZID=UTC:20250814T210000
DTSTAMP:20260421T180254
CREATED:20250507T165147Z
LAST-MODIFIED:20250614T171205Z
UID:240233-1755198000-1755205200@rotaryportsmouthnorth.co.uk
SUMMARY:Business Meeting
DESCRIPTION:Business Meeting. At this meeting there will be an update on the distribution of the ‘Bleed Control Kits’ \, all suggested venue’s will be noted.
URL:https://rotaryportsmouthnorth.co.uk/event/b-usiness-meeting
END:VEVENT
BEGIN:VEVENT
DTSTART;TZID=UTC:20250807T190000
DTEND;TZID=UTC:20250807T213000
DTSTAMP:20260421T180254
CREATED:20250618T101937Z
LAST-MODIFIED:20250618T102345Z
UID:240331-1754593200-1754602200@rotaryportsmouthnorth.co.uk
SUMMARY:Charity Speaker Melanie Goddard The Roberts Centre\, Portsmouth
DESCRIPTION:The host for the evening will be David Mussell.  Melanie Goddard will be joining us from the Roberts Centre Portsmouth. They are an organisation with a reputation for developing innovative responses to people who are struggling to improve their family’s difficult circumstances whether from homelessness or family breakdown. We work with families\, children\, young people and vulnerable adults.
URL:https://rotaryportsmouthnorth.co.uk/event/charity-speaker-melanie-goddard-the-roberts-centre-portsmouth
LOCATION:Langstone Resort Hotel\, Northeny Road\, Hayling Island\, PO110NQ\, United Kingdom
END:VEVENT
BEGIN:VEVENT
DTSTART;TZID=UTC:20250804T160000
DTEND;TZID=UTC:20250804T180000
DTSTAMP:20260421T180254
CREATED:20250614T193820Z
LAST-MODIFIED:20250614T193820Z
UID:240315-1754323200-1754330400@rotaryportsmouthnorth.co.uk
SUMMARY:Club Council Meeting
DESCRIPTION:Club Council Meeting Venue TBC.
URL:https://rotaryportsmouthnorth.co.uk/event/club-council-meeting-3
END:VEVENT
BEGIN:VEVENT
DTSTART;TZID=UTC:20250731T190000
DTEND;TZID=UTC:20250731T210000
DTSTAMP:20260421T180254
CREATED:20250614T170112Z
LAST-MODIFIED:20250614T170112Z
UID:240261-1753988400-1753995600@rotaryportsmouthnorth.co.uk
SUMMARY:Fellowship Meeting
DESCRIPTION:Fellowship Meeting.
URL:https://rotaryportsmouthnorth.co.uk/event/fellowship-meeting-2
LOCATION:Langstone Resort Hotel\, Northeny Road\, Hayling Island\, PO110NQ\, United Kingdom
END:VEVENT
BEGIN:VEVENT
DTSTART;TZID=UTC:20250724T190000
DTEND;TZID=UTC:20250724T213000
DTSTAMP:20260421T180254
CREATED:20250614T165814Z
LAST-MODIFIED:20250614T183925Z
UID:240259-1753383600-1753392600@rotaryportsmouthnorth.co.uk
SUMMARY:Speaker: Piers Rochford " Cyber -Policing" Hampshire Police
DESCRIPTION:Our Ladies and Partners are invited to this event\, I am sure we all find it very interesting. \nThe Speaker will be hosted by Keith Barnett.
URL:https://rotaryportsmouthnorth.co.uk/event/speaker-piers-rochford-cyber-policing-hampshire-police
END:VEVENT
BEGIN:VEVENT
DTSTART;TZID=UTC:20250717T190000
DTEND;TZID=UTC:20250717T210000
DTSTAMP:20260421T180254
CREATED:20250507T164812Z
LAST-MODIFIED:20250507T164828Z
UID:240228-1752778800-1752786000@rotaryportsmouthnorth.co.uk
SUMMARY:Business Meeting
DESCRIPTION:This will be the first Business meeting of the new Rotary year
URL:https://rotaryportsmouthnorth.co.uk/event/business-meeting
END:VEVENT
BEGIN:VEVENT
DTSTART;TZID=UTC:20250711T160000
DTEND;TZID=UTC:20250711T180000
DTSTAMP:20260421T180254
CREATED:20250629T173007Z
LAST-MODIFIED:20250629T173007Z
UID:240340-1752249600-1752256800@rotaryportsmouthnorth.co.uk
SUMMARY:Club Council
DESCRIPTION:Club Council will be held at the President’s House – 41 Bowes Hill\, Rowlands Castle. The meeting will start at 4.00pm
URL:https://rotaryportsmouthnorth.co.uk/event/club-council-2
LOCATION:41 Bowes Hill \,Rowlands Castle
END:VEVENT
BEGIN:VEVENT
DTSTART;TZID=UTC:20250710T190000
DTEND;TZID=UTC:20250710T210000
DTSTAMP:20260421T180254
CREATED:20250614T164956Z
LAST-MODIFIED:20250614T181053Z
UID:240257-1752174000-1752181200@rotaryportsmouthnorth.co.uk
SUMMARY:Fellowship Meeting
DESCRIPTION:Fellowship Meeting 10th July will be the first Rotary Meeting of the Rotary year with our new President Adrian Brooks. \n(I am aware there are a number of fellowship meetings booked for the next six months\, this may very well change as Charity Speakers are being secured).
URL:https://rotaryportsmouthnorth.co.uk/event/fellowship-meeting
END:VEVENT
BEGIN:VEVENT
DTSTART;TZID=UTC:20250705T190000
DTEND;TZID=UTC:20250705T223000
DTSTAMP:20260421T180254
CREATED:20250328T104308Z
LAST-MODIFIED:20250507T164924Z
UID:240030-1751742000-1751754600@rotaryportsmouthnorth.co.uk
SUMMARY:President Changeover evening
DESCRIPTION:A celebration evening giving thanks to our President and welcoming in our new President Adrian Brooks.
URL:https://rotaryportsmouthnorth.co.uk/event/president-changeover-evening
LOCATION:Langstone Resort Hotel\, Northeny Road\, Hayling Island\, PO110NQ\, United Kingdom
END:VEVENT
BEGIN:VEVENT
DTSTART;TZID=UTC:20250703T070000
DTEND;TZID=UTC:20250703T210000
DTSTAMP:20260421T180254
CREATED:20250614T163517Z
LAST-MODIFIED:20250614T163517Z
UID:240252-1751526000-1751576400@rotaryportsmouthnorth.co.uk
SUMMARY:3rd July - NO MEETING
DESCRIPTION:The meeting on Thursday 3rd July will be cancelled due to the Changeover evening on Saturday 5th July at The Langstone Quays Resort. The event will take place in the Spinnaker Room with our Ladies.
URL:https://rotaryportsmouthnorth.co.uk/event/3rd-july-no-meeting
END:VEVENT
BEGIN:VEVENT
DTSTART;TZID=UTC:20250626T190000
DTEND;TZID=UTC:20250626T213000
DTSTAMP:20260421T180254
CREATED:20250522T140619Z
LAST-MODIFIED:20250614T164541Z
UID:240245-1750964400-1750973400@rotaryportsmouthnorth.co.uk
SUMMARY:Speaker Phil Shaw - Shelter Box Update
DESCRIPTION:Phil Shaw will be giving us an update on the Shelter Box Charity. Chris will be Hosting the speaker. Havant Rotary will also be joining us for the evening and we will have our new Corporate Business Partners from IFS.
URL:https://rotaryportsmouthnorth.co.uk/event/speaker-phil-shaw-shelter-box-update
LOCATION:Langstone Resort Hotel\, Northeny Road\, Hayling Island\, PO110NQ\, United Kingdom
ATTACH;FMTTYPE=image/jpeg:https://rotaryportsmouthnorth.co.uk/wp-content/uploads/2025/05/Shelter-Box.jpeg
END:VEVENT
BEGIN:VEVENT
DTSTART;TZID=UTC:20250619T190000
DTEND;TZID=UTC:20250619T210000
DTSTAMP:20260421T180254
CREATED:20250313T133145Z
LAST-MODIFIED:20250522T141049Z
UID:239950-1750359600-1750366800@rotaryportsmouthnorth.co.uk
SUMMARY:Thursday Meeting - Fellowship.
DESCRIPTION:Fellowship Meeting.
URL:https://rotaryportsmouthnorth.co.uk/event/thursday-meeting-with-ladies-speaker-tbc
LOCATION:Langstone Resort Hotel\, Northeny Road\, Hayling Island\, PO110NQ\, United Kingdom
END:VEVENT
BEGIN:VEVENT
DTSTART;TZID=UTC:20250612T190000
DTEND;TZID=UTC:20250612T210000
DTSTAMP:20260421T180254
CREATED:20250313T133033Z
LAST-MODIFIED:20250313T133033Z
UID:239948-1749754800-1749762000@rotaryportsmouthnorth.co.uk
SUMMARY:Thursday Meeting - Golf Day Wash Up
DESCRIPTION:Thursday Meeting – Golf Day Wash Up
URL:https://rotaryportsmouthnorth.co.uk/event/thursday-meeting-golf-day-wash-up
LOCATION:Langstone Resort Hotel\, Northeny Road\, Hayling Island\, PO110NQ\, United Kingdom
END:VEVENT
BEGIN:VEVENT
DTSTART;VALUE=DATE:20250605
DTEND;VALUE=DATE:20250606
DTSTAMP:20260421T180254
CREATED:20250313T132816Z
LAST-MODIFIED:20250313T132855Z
UID:239945-1749081600-1749167999@rotaryportsmouthnorth.co.uk
SUMMARY:GOLF DAY
DESCRIPTION:GOLF DAY ALL MEMBERS
URL:https://rotaryportsmouthnorth.co.uk/event/golf-day
LOCATION:Rowlands Castle Golf Club\, 31 Links Lane\, Rowlands Castle\, hampshire\, PO9 6AE\, United Kingdom
ATTACH;FMTTYPE=image/jpeg:https://rotaryportsmouthnorth.co.uk/wp-content/uploads/2025/02/golftop.jpg
END:VEVENT
BEGIN:VEVENT
DTSTART;TZID=UTC:20250529T190000
DTEND;TZID=UTC:20250529T210000
DTSTAMP:20260421T180254
CREATED:20250313T132433Z
LAST-MODIFIED:20250328T151419Z
UID:239943-1748545200-1748552400@rotaryportsmouthnorth.co.uk
SUMMARY:Skittles Evening
DESCRIPTION:Thursday Meeting The Skittles Evening will be held at the COFTON PUB\, STUBBINGTON\, HANTS. Meals will be pre-ordered.
URL:https://rotaryportsmouthnorth.co.uk/event/thursday-meeting-golf-briefing
LOCATION:Langstone Resort Hotel\, Northeny Road\, Hayling Island\, PO110NQ\, United Kingdom
ATTACH;FMTTYPE=image/jpeg:https://rotaryportsmouthnorth.co.uk/wp-content/uploads/2025/03/Crofton-Pub.jpg
END:VEVENT
BEGIN:VEVENT
DTSTART;TZID=UTC:20250522T190000
DTEND;TZID=UTC:20250522T210000
DTSTAMP:20260421T180254
CREATED:20250313T131842Z
LAST-MODIFIED:20250313T134104Z
UID:239938-1747940400-1747947600@rotaryportsmouthnorth.co.uk
SUMMARY:Thursday Meeting with ladies - Speaker David Bickerton The Pursuit and Sinking of The Bismark
DESCRIPTION:Thursday Metting with a speaker The Pursuit and Sinking of the Bismark    David Bickerton. Host K REDFORD\n \n80 years ago\, on 24th May\, more than a hundred British warships were involved in a desperate 5 day\, 1\,750 mile hunt for the mighty German battleship Bismarck\, which disappeared for more than 24 hours and was almost within reach of safety before it was tracked down. David Bickerton’s father was a crewman aboard HMS Dorsetshire which was involved in the final showdown. \nHost: K Redford \n 
URL:https://rotaryportsmouthnorth.co.uk/event/thursday-meeting-speaker-david-bickerton
LOCATION:Langstone Resort Hotel\, Northeny Road\, Hayling Island\, PO110NQ\, United Kingdom
END:VEVENT
BEGIN:VEVENT
DTSTART;TZID=UTC:20250515T190000
DTEND;TZID=UTC:20250515T210000
DTSTAMP:20260421T180254
CREATED:20250313T131640Z
LAST-MODIFIED:20250328T150808Z
UID:239936-1747335600-1747342800@rotaryportsmouthnorth.co.uk
SUMMARY:Charity Golf Day Briefing - All Members
DESCRIPTION:Thursday Meeting – Golf Day Briefing all members. Duties for the day will be allocated.
URL:https://rotaryportsmouthnorth.co.uk/event/thursday-meeting-fellowship-3
LOCATION:Langstone Resort Hotel\, Northeny Road\, Hayling Island\, PO110NQ\, United Kingdom
END:VEVENT
BEGIN:VEVENT
DTSTART;TZID=UTC:20250508T190000
DTEND;TZID=UTC:20250508T210000
DTSTAMP:20260421T180254
CREATED:20250313T131509Z
LAST-MODIFIED:20250313T133936Z
UID:239934-1746730800-1746738000@rotaryportsmouthnorth.co.uk
SUMMARY:Thursday Meeting Club Assembly and Business Meeting
DESCRIPTION:Club Assembly and Business meeting \nHost A. Brooks
URL:https://rotaryportsmouthnorth.co.uk/event/thursday-meeting
LOCATION:Langstone Resort Hotel\, Northeny Road\, Hayling Island\, PO110NQ\, United Kingdom
END:VEVENT
BEGIN:VEVENT
DTSTART;TZID=UTC:20250506T160000
DTEND;TZID=UTC:20250506T180000
DTSTAMP:20260421T180254
CREATED:20250414T083739Z
LAST-MODIFIED:20250414T083739Z
UID:240059-1746547200-1746554400@rotaryportsmouthnorth.co.uk
SUMMARY:Club Council Meeting
DESCRIPTION:The next Club Council Meeting will be held on TUESDAY 6th May (Due to bank Holiday Monday). The meeting will be held at the offices of Material Things\, Fitzherbet Road. The meeting will start at 4.00pm.
URL:https://rotaryportsmouthnorth.co.uk/event/club-council-meeting
LOCATION:28 Fitzherbert Rd\, Farlington\, Portsmouth PO6 1RU
END:VEVENT
BEGIN:VEVENT
DTSTART;TZID=UTC:20250501T190000
DTEND;TZID=UTC:20250501T210000
DTSTAMP:20260421T180254
CREATED:20250313T130626Z
LAST-MODIFIED:20250416T164344Z
UID:239927-1746126000-1746133200@rotaryportsmouthnorth.co.uk
SUMMARY:Thursday Meeting - Speaker Richard Swaine COPP on Hayling
DESCRIPTION:Thursday Meeting – Speaker Richard Swaine COPP on Hayling \nRichard Swaine has undertaken detailed research on the Combined Operations Pilotage Parties (COPP) and will speak about their dangerous operations in North Africa\, Sicily\, Normandy and in the Far East. \nOur Ladies are invited. ~Please inform Chris in the usual way\, also if they would like Ice Cream or Cheese. \n 
URL:https://rotaryportsmouthnorth.co.uk/event/thursday-meeting-speaker-richard-swaine-copp-on-hayling
LOCATION:Langstone Resort Hotel\, Northeny Road\, Hayling Island\, PO110NQ\, United Kingdom
ATTACH;FMTTYPE=image/jpeg:https://rotaryportsmouthnorth.co.uk/wp-content/uploads/2025/03/COPP.jpg
END:VEVENT
BEGIN:VEVENT
DTSTART;TZID=UTC:20250424T190000
DTEND;TZID=UTC:20250424T210000
DTSTAMP:20260421T180254
CREATED:20250313T094800Z
LAST-MODIFIED:20250416T164017Z
UID:239917-1745521200-1745528400@rotaryportsmouthnorth.co.uk
SUMMARY:Connors Toy Library
DESCRIPTION:Karen Drayton speaking about the charity \nHost Kerrison Preston – Kerrison will host the speaker. \nMenu: Cumberland Sausage Mashed Potatoes\, red onion and mushroom gravy\, mixed seasonal vegetables and Yorkshire pudding. Ice Cream or Cheese and Biscuits.
URL:https://rotaryportsmouthnorth.co.uk/event/connors-toy-library
LOCATION:Langstone Resort Hotel\, Northeny Road\, Hayling Island\, PO110NQ\, United Kingdom
END:VEVENT
END:VCALENDAR