BEGIN:VCALENDAR
VERSION:2.0
PRODID:-//Portsmouth North Rotary - ECPv6.15.20//NONSGML v1.0//EN
CALSCALE:GREGORIAN
METHOD:PUBLISH
X-WR-CALNAME:Portsmouth North Rotary
X-ORIGINAL-URL:https://rotaryportsmouthnorth.co.uk
X-WR-CALDESC:Events for Portsmouth North Rotary
REFRESH-INTERVAL;VALUE=DURATION:PT1H
X-Robots-Tag:noindex
X-PUBLISHED-TTL:PT1H
BEGIN:VTIMEZONE
TZID:UTC
BEGIN:STANDARD
TZOFFSETFROM:+0000
TZOFFSETTO:+0000
TZNAME:UTC
DTSTART:20240101T000000
END:STANDARD
END:VTIMEZONE
BEGIN:VEVENT
DTSTART;TZID=UTC:20260115T190000
DTEND;TZID=UTC:20260115T210000
DTSTAMP:20260421T180839
CREATED:20251019T103819Z
LAST-MODIFIED:20251019T104206Z
UID:240483-1768503600-1768510800@rotaryportsmouthnorth.co.uk
SUMMARY:Business Meeting
DESCRIPTION:Business Meeting
URL:https://rotaryportsmouthnorth.co.uk/event/happy-christmas-everyone
LOCATION:Langstone Resort Hotel\, Northeny Road\, Hayling Island\, PO110NQ\, United Kingdom
END:VEVENT
BEGIN:VEVENT
DTSTART;TZID=UTC:20260108T070000
DTEND;TZID=UTC:20260108T210000
DTSTAMP:20260421T180839
CREATED:20251019T103637Z
LAST-MODIFIED:20251019T103637Z
UID:240481-1767855600-1767906000@rotaryportsmouthnorth.co.uk
SUMMARY:Fellowship Meeting
DESCRIPTION:First Meeting of the New Year\, an enjoyable fellowship meeting.
URL:https://rotaryportsmouthnorth.co.uk/event/fellowship-meeting-4
LOCATION:Langstone Resort Hotel\, Northeny Road\, Hayling Island\, PO110NQ\, United Kingdom
END:VEVENT
BEGIN:VEVENT
DTSTART;TZID=UTC:20260105T160000
DTEND;TZID=UTC:20260105T180000
DTSTAMP:20260421T180839
CREATED:20251019T105313Z
LAST-MODIFIED:20251019T105313Z
UID:240493-1767628800-1767636000@rotaryportsmouthnorth.co.uk
SUMMARY:Club Council Meeting
DESCRIPTION:The first Club Council Meeting of the year will be heod at 16 Burnham Wood\, Fareham.
URL:https://rotaryportsmouthnorth.co.uk/event/club-council-meeting-4
LOCATION:16 Burnham Wood\, Fareham\, Bushtails\, Fareham\, Hampshire\, PO16 7UD\, United Kingdom
END:VEVENT
BEGIN:VEVENT
DTSTART;TZID=UTC:20251221T063000
DTEND;TZID=UTC:20251221T233000
DTSTAMP:20260421T180839
CREATED:20250928T163031Z
LAST-MODIFIED:20250928T163031Z
UID:240476-1766298600-1766359800@rotaryportsmouthnorth.co.uk
SUMMARY:Christmas Dinner Dance
DESCRIPTION:We are arranging a Dinner Dance  on the 21st December. This is NOT a Rotary dinner Dance\, it is a dinner dance arranged by the Rotary Club and we are hoping to raise funds for the club. These additional funds will jnot be raised via any Rotary members and their partners who attend but the guests. The evening will be held at the Langstone Quays Resort Hotel.
URL:https://rotaryportsmouthnorth.co.uk/event/christmas-dinner-dance
LOCATION:Langstone Resort Hotel\, Northeny Road\, Hayling Island\, PO110NQ\, United Kingdom
ATTACH;FMTTYPE=image/jpeg:https://rotaryportsmouthnorth.co.uk/wp-content/uploads/2025/03/thelangstone.jpg
END:VEVENT
BEGIN:VEVENT
DTSTART;VALUE=DATE:20251219
DTEND;VALUE=DATE:20251221
DTSTAMP:20260421T180839
CREATED:20250614T193634Z
LAST-MODIFIED:20250614T195723Z
UID:240313-1766102400-1766275199@rotaryportsmouthnorth.co.uk
SUMMARY:Tesco North Harbour Christmas Collection
DESCRIPTION:The charity is to be confirmed 19th – 20th December 2025.
URL:https://rotaryportsmouthnorth.co.uk/event/tesco-north-harbour-christmas-collection
LOCATION:Tesco Super store\, North Harbour
END:VEVENT
BEGIN:VEVENT
DTSTART;TZID=UTC:20251218T190000
DTEND;TZID=UTC:20251218T220000
DTSTAMP:20260421T180839
CREATED:20250614T192651Z
LAST-MODIFIED:20250614T192651Z
UID:240308-1766084400-1766095200@rotaryportsmouthnorth.co.uk
SUMMARY:Rotary Christmas Party
DESCRIPTION:End of year Rotary Christmas Party. members\, Ladies and Partners Christmas ‘get-together’ Christmas meal\, last meeting of the year.
URL:https://rotaryportsmouthnorth.co.uk/event/rotary-christmas-party
LOCATION:Langstone Resort Hotel\, Northeny Road\, Hayling Island\, PO110NQ\, United Kingdom
END:VEVENT
BEGIN:VEVENT
DTSTART;TZID=UTC:20251211T190000
DTEND;TZID=UTC:20251211T210000
DTSTAMP:20260421T180839
CREATED:20250614T192245Z
LAST-MODIFIED:20250614T194434Z
UID:240304-1765479600-1765486800@rotaryportsmouthnorth.co.uk
SUMMARY:Business Meeting
DESCRIPTION:Business Meeting
URL:https://rotaryportsmouthnorth.co.uk/event/fellowship-meeting-13
LOCATION:Langstone Resort Hotel\, Northeny Road\, Hayling Island\, PO110NQ\, United Kingdom
END:VEVENT
BEGIN:VEVENT
DTSTART;TZID=UTC:20251204T190000
DTEND;TZID=UTC:20251204T210000
DTSTAMP:20260421T180839
CREATED:20250614T192419Z
LAST-MODIFIED:20250614T192419Z
UID:240306-1764874800-1764882000@rotaryportsmouthnorth.co.uk
SUMMARY:Fellowship Meeting
DESCRIPTION:Fellowship Meeting
URL:https://rotaryportsmouthnorth.co.uk/event/fellowship-meeting-14
LOCATION:Langstone Resort Hotel\, Northeny Road\, Hayling Island\, PO110NQ\, United Kingdom
END:VEVENT
BEGIN:VEVENT
DTSTART;TZID=UTC:20251127T190000
DTEND;TZID=UTC:20251127T213000
DTSTAMP:20260421T180839
CREATED:20250614T183847Z
LAST-MODIFIED:20250808T162103Z
UID:240297-1764270000-1764279000@rotaryportsmouthnorth.co.uk
SUMMARY:Speaker: Donna Jones - Police and Crime Commissioner.
DESCRIPTION:Speaker: – Donna Jones Police and Crime Commissioner. Our Ladies and Partners are invited to this event. The speaker will be hosted by Mike Sanders.
URL:https://rotaryportsmouthnorth.co.uk/event/speaker-donna-jones-police-and-crime-commissioner
LOCATION:Langstone Resort Hotel\, Northeny Road\, Hayling Island\, PO110NQ\, United Kingdom
END:VEVENT
BEGIN:VEVENT
DTSTART;TZID=UTC:20251120T190000
DTEND;TZID=UTC:20251120T210000
DTSTAMP:20260421T180839
CREATED:20250614T183450Z
LAST-MODIFIED:20250614T183450Z
UID:240295-1763665200-1763672400@rotaryportsmouthnorth.co.uk
SUMMARY:Fellowship Meeting
DESCRIPTION:Fellowship Meeting
URL:https://rotaryportsmouthnorth.co.uk/event/fellowship-meeting-12
LOCATION:Langstone Resort Hotel\, Northeny Road\, Hayling Island\, PO110NQ\, United Kingdom
END:VEVENT
BEGIN:VEVENT
DTSTART;TZID=UTC:20251113T190000
DTEND;TZID=UTC:20251113T210000
DTSTAMP:20260421T180839
CREATED:20250614T182943Z
LAST-MODIFIED:20250614T183344Z
UID:240289-1763060400-1763067600@rotaryportsmouthnorth.co.uk
SUMMARY:Business Meeting.
DESCRIPTION:Business Meeting.
URL:https://rotaryportsmouthnorth.co.uk/event/fellowship-meeting-10
LOCATION:Langstone Resort Hotel\, Northeny Road\, Hayling Island\, PO110NQ\, United Kingdom
END:VEVENT
BEGIN:VEVENT
DTSTART;TZID=UTC:20251106T180000
DTEND;TZID=UTC:20251106T220000
DTSTAMP:20260421T180839
CREATED:20250729T160505Z
LAST-MODIFIED:20250729T160505Z
UID:240389-1762452000-1762466400@rotaryportsmouthnorth.co.uk
SUMMARY:Skittkes evening
DESCRIPTION:All members welcome on 6th November to The Crofton Pub for Skittles. A meal will be included\, menus to follow. £16 PP starts at 6.30pm.
URL:https://rotaryportsmouthnorth.co.uk/event/skittkes-evening
LOCATION:The Crofton Pub\, Stubbington.\, 48 Crofton Lane\,\, Stubbington\, Hampshire\, PO14 3QF\, United Kingdom
END:VEVENT
BEGIN:VEVENT
DTSTART;TZID=UTC:20251103T160000
DTEND;TZID=UTC:20251103T180000
DTSTAMP:20260421T180839
CREATED:20250614T194132Z
LAST-MODIFIED:20250614T194132Z
UID:240321-1762185600-1762192800@rotaryportsmouthnorth.co.uk
SUMMARY:Club Council Meeting
DESCRIPTION:Club Council Meeting Venue TBC
URL:https://rotaryportsmouthnorth.co.uk/event/club-council-meeting-6
END:VEVENT
BEGIN:VEVENT
DTSTART;TZID=UTC:20251030T190000
DTEND;TZID=UTC:20251030T210000
DTSTAMP:20260421T180839
CREATED:20250614T182829Z
LAST-MODIFIED:20250614T182829Z
UID:240287-1761850800-1761858000@rotaryportsmouthnorth.co.uk
SUMMARY:Fellowship Meeting
DESCRIPTION:Fellowship Meeting
URL:https://rotaryportsmouthnorth.co.uk/event/fellowship-meeting-9
LOCATION:Langstone Resort Hotel\, Northeny Road\, Hayling Island\, PO110NQ\, United Kingdom
END:VEVENT
BEGIN:VEVENT
DTSTART;TZID=UTC:20251023T190000
DTEND;TZID=UTC:20251023T213000
DTSTAMP:20260421T180839
CREATED:20250614T182709Z
LAST-MODIFIED:20250614T182709Z
UID:240285-1761246000-1761255000@rotaryportsmouthnorth.co.uk
SUMMARY:Speaker: Jane Glennie - "How do you take yours"
DESCRIPTION:The Speaker this evening will be Jane Glennie. Our Ladies are invited. The Speaker will be hosted by Keith Redford.
URL:https://rotaryportsmouthnorth.co.uk/event/speaker-jane-glennie-how-do-you-take-yours
LOCATION:Langstone Resort Hotel\, Northeny Road\, Hayling Island\, PO110NQ\, United Kingdom
END:VEVENT
BEGIN:VEVENT
DTSTART;TZID=UTC:20251016T190000
DTEND;TZID=UTC:20251016T210000
DTSTAMP:20260421T180839
CREATED:20250614T192057Z
LAST-MODIFIED:20250614T192057Z
UID:240302-1760641200-1760648400@rotaryportsmouthnorth.co.uk
SUMMARY:Business Meeting
DESCRIPTION:Business Meeting
URL:https://rotaryportsmouthnorth.co.uk/event/business-meeting-2
LOCATION:Langstone Resort Hotel\, Northeny Road\, Hayling Island\, PO110NQ\, United Kingdom
END:VEVENT
BEGIN:VEVENT
DTSTART;TZID=UTC:20251011T100000
DTEND;TZID=UTC:20251011T170000
DTSTAMP:20260421T180839
CREATED:20250614T193420Z
LAST-MODIFIED:20250926T171118Z
UID:240310-1760176800-1760202000@rotaryportsmouthnorth.co.uk
SUMMARY:Tesco North Harbour - McMillan Cancer Support Collection
DESCRIPTION:A Rota for the collection will be circulated. We will collect from 10.00am – 5.00pm.
URL:https://rotaryportsmouthnorth.co.uk/event/tesco-north-harbour-mcmillan-cancer-support-collection
LOCATION:Tesco Super store\, North Harbour
END:VEVENT
BEGIN:VEVENT
DTSTART;TZID=UTC:20251009T190000
DTEND;TZID=UTC:20251009T193000
DTSTAMP:20260421T180839
CREATED:20250618T102802Z
LAST-MODIFIED:20250928T162556Z
UID:240335-1760036400-1760038200@rotaryportsmouthnorth.co.uk
SUMMARY:Speaker Mike Morell The Lighthouse Charity
DESCRIPTION:Host for the evening will be David Jones  The lighthouse Charity supports thousands of construction workers and their families every single year. Our support is based on 3 pillars\, Emotional\, Physical and Financial Wellbeing. The speaker will join us after Dinner.
URL:https://rotaryportsmouthnorth.co.uk/event/speaker-mike-morell-the-lighthouse-charity
LOCATION:Langstone Resort Hotel\, Northeny Road\, Hayling Island\, PO110NQ\, United Kingdom
END:VEVENT
BEGIN:VEVENT
DTSTART;TZID=UTC:20251006T160000
DTEND;TZID=UTC:20251006T180000
DTSTAMP:20260421T180839
CREATED:20250614T194026Z
LAST-MODIFIED:20250614T194026Z
UID:240319-1759766400-1759773600@rotaryportsmouthnorth.co.uk
SUMMARY:Club Council Meeting
DESCRIPTION:Club Council Meeting Venue TBC
URL:https://rotaryportsmouthnorth.co.uk/event/club-council-meeting-5
END:VEVENT
BEGIN:VEVENT
DTSTART;TZID=UTC:20251002T190000
DTEND;TZID=UTC:20251002T210000
DTSTAMP:20260421T180839
CREATED:20250614T182223Z
LAST-MODIFIED:20250614T182223Z
UID:240281-1759431600-1759438800@rotaryportsmouthnorth.co.uk
SUMMARY:Fellowship Meeting
DESCRIPTION:Fellowship Meeting – Suggest – Discuss and agree a beneficial Charity for Golf Day 2026.
URL:https://rotaryportsmouthnorth.co.uk/event/fellowship-meeting-7
LOCATION:Langstone Resort Hotel\, Northeny Road\, Hayling Island\, PO110NQ\, United Kingdom
END:VEVENT
BEGIN:VEVENT
DTSTART;TZID=UTC:20250925T190000
DTEND;TZID=UTC:20250925T213000
DTSTAMP:20260421T180839
CREATED:20250614T181559Z
LAST-MODIFIED:20250808T161922Z
UID:240277-1758826800-1758835800@rotaryportsmouthnorth.co.uk
SUMMARY:Speaker: Dr. Frances Hurd 'Secrets and Lies'
DESCRIPTION:Dr Frances Hurd will be speaking this evening\, Our Ladies and Partners are invited to this event. The Speaker will be hosted by Colin Barrell
URL:https://rotaryportsmouthnorth.co.uk/event/speaker-dr-frances-hurd-secrets-and-lies
LOCATION:Langstone Resort Hotel\, Northeny Road\, Hayling Island\, PO110NQ\, United Kingdom
END:VEVENT
BEGIN:VEVENT
DTSTART;TZID=UTC:20250922T183000
DTEND;TZID=UTC:20250922T210000
DTSTAMP:20260421T180839
CREATED:20250905T102705Z
LAST-MODIFIED:20250905T102758Z
UID:240470-1758565800-1758574800@rotaryportsmouthnorth.co.uk
SUMMARY:Visit - Havant Rotary Club
DESCRIPTION:Monday 22nd September we have been invited to attend the Business Meeting at havant Rotary. \nThe meeting will be held at The Bear Hotel\, Havant. and  will start at 6.30pm and finish at 9.00pm. The menu will be advised nearer the time.
URL:https://rotaryportsmouthnorth.co.uk/event/visti-to-havant-rotary-club
LOCATION:The Bear Hotel\, Havant.\, East Street\, Havant\, PO91AE
END:VEVENT
BEGIN:VEVENT
DTSTART;TZID=UTC:20250918T190000
DTEND;TZID=UTC:20250918T210000
DTSTAMP:20260421T180839
CREATED:20250614T171950Z
LAST-MODIFIED:20250614T171950Z
UID:240274-1758222000-1758229200@rotaryportsmouthnorth.co.uk
SUMMARY:Fellowship Meeting
DESCRIPTION:Fellowship Meeting
URL:https://rotaryportsmouthnorth.co.uk/event/fellowship-meeting-6
LOCATION:Langstone Resort Hotel\, Northeny Road\, Hayling Island\, PO110NQ\, United Kingdom
END:VEVENT
BEGIN:VEVENT
DTSTART;TZID=UTC:20250911T190000
DTEND;TZID=UTC:20250911T210000
DTSTAMP:20260421T180839
CREATED:20250507T165245Z
LAST-MODIFIED:20250507T165245Z
UID:240236-1757617200-1757624400@rotaryportsmouthnorth.co.uk
SUMMARY:Business Meeting
DESCRIPTION:
URL:https://rotaryportsmouthnorth.co.uk/event/business-meeting-3
END:VEVENT
BEGIN:VEVENT
DTSTART;TZID=UTC:20250908T160000
DTEND;TZID=UTC:20250908T183000
DTSTAMP:20260421T180839
CREATED:20250808T161204Z
LAST-MODIFIED:20250808T161204Z
UID:240396-1757347200-1757356200@rotaryportsmouthnorth.co.uk
SUMMARY:Club Council Meeting
DESCRIPTION:The Club Council meeting this month will be held at Malcolm’s house\, 68 Bowes Hill\, Rowlands Castle.
URL:https://rotaryportsmouthnorth.co.uk/event/club-council-meeting-2
LOCATION:68 Bowes Hill\, Rowlands Castle.
END:VEVENT
BEGIN:VEVENT
DTSTART;TZID=UTC:20250904T190000
DTEND;TZID=UTC:20250904T213000
DTSTAMP:20260421T180839
CREATED:20250614T171640Z
LAST-MODIFIED:20250708T123238Z
UID:240270-1757012400-1757021400@rotaryportsmouthnorth.co.uk
SUMMARY:Speaker: Run for your life.
DESCRIPTION:Our Ladies and Partners will be invited to this event. David Jones will be giving the members this talk\, hosted by the President.
URL:https://rotaryportsmouthnorth.co.uk/event/speaker-run-for-your-life
LOCATION:Langstone Resort Hotel\, Northeny Road\, Hayling Island\, PO110NQ\, United Kingdom
END:VEVENT
BEGIN:VEVENT
DTSTART;TZID=UTC:20250828T190000
DTEND;TZID=UTC:20250828T210000
DTSTAMP:20260421T180839
CREATED:20250708T123606Z
LAST-MODIFIED:20250708T123606Z
UID:240346-1756407600-1756414800@rotaryportsmouthnorth.co.uk
SUMMARY:Fellowship Meeting
DESCRIPTION:
URL:https://rotaryportsmouthnorth.co.uk/event/fellowship-meeting-3
LOCATION:Langstone Resort Hotel\, Northeny Road\, Hayling Island\, PO110NQ\, United Kingdom
END:VEVENT
BEGIN:VEVENT
DTSTART;TZID=UTC:20250821T190000
DTEND;TZID=UTC:20250821T213000
DTSTAMP:20260421T180839
CREATED:20250708T123048Z
LAST-MODIFIED:20250808T161403Z
UID:240344-1755802800-1755811800@rotaryportsmouthnorth.co.uk
SUMMARY:Speaker: Dr Carl Anandan
DESCRIPTION:Dr Carl Anandan will be giving a basic chat on hemostasis  and some compounding factors. Carl has joined us a couple of times and is a prospective new member. Our ladies and partners will be invited. IPP Malcolm will host Carl on the evening.
URL:https://rotaryportsmouthnorth.co.uk/event/speaker-dr-cal-anandan
LOCATION:Langstone Resort Hotel\, Northeny Road\, Hayling Island\, PO110NQ\, United Kingdom
END:VEVENT
BEGIN:VEVENT
DTSTART;TZID=UTC:20250814T190000
DTEND;TZID=UTC:20250814T210000
DTSTAMP:20260421T180839
CREATED:20250507T165147Z
LAST-MODIFIED:20250614T171205Z
UID:240233-1755198000-1755205200@rotaryportsmouthnorth.co.uk
SUMMARY:Business Meeting
DESCRIPTION:Business Meeting. At this meeting there will be an update on the distribution of the ‘Bleed Control Kits’ \, all suggested venue’s will be noted.
URL:https://rotaryportsmouthnorth.co.uk/event/b-usiness-meeting
END:VEVENT
BEGIN:VEVENT
DTSTART;TZID=UTC:20250807T190000
DTEND;TZID=UTC:20250807T213000
DTSTAMP:20260421T180839
CREATED:20250618T101937Z
LAST-MODIFIED:20250618T102345Z
UID:240331-1754593200-1754602200@rotaryportsmouthnorth.co.uk
SUMMARY:Charity Speaker Melanie Goddard The Roberts Centre\, Portsmouth
DESCRIPTION:The host for the evening will be David Mussell.  Melanie Goddard will be joining us from the Roberts Centre Portsmouth. They are an organisation with a reputation for developing innovative responses to people who are struggling to improve their family’s difficult circumstances whether from homelessness or family breakdown. We work with families\, children\, young people and vulnerable adults.
URL:https://rotaryportsmouthnorth.co.uk/event/charity-speaker-melanie-goddard-the-roberts-centre-portsmouth
LOCATION:Langstone Resort Hotel\, Northeny Road\, Hayling Island\, PO110NQ\, United Kingdom
END:VEVENT
END:VCALENDAR