BEGIN:VCALENDAR
VERSION:2.0
PRODID:-//Portsmouth North Rotary - ECPv6.15.20//NONSGML v1.0//EN
CALSCALE:GREGORIAN
METHOD:PUBLISH
X-ORIGINAL-URL:https://rotaryportsmouthnorth.co.uk
X-WR-CALDESC:Events for Portsmouth North Rotary
REFRESH-INTERVAL;VALUE=DURATION:PT1H
X-Robots-Tag:noindex
X-PUBLISHED-TTL:PT1H
BEGIN:VTIMEZONE
TZID:UTC
BEGIN:STANDARD
TZOFFSETFROM:+0000
TZOFFSETTO:+0000
TZNAME:UTC
DTSTART:20250101T000000
END:STANDARD
END:VTIMEZONE
BEGIN:VEVENT
DTSTART;TZID=UTC:20260302T160000
DTEND;TZID=UTC:20260302T180000
DTSTAMP:20260422T042255
CREATED:20251019T131604Z
LAST-MODIFIED:20251019T131604Z
UID:240527-1772467200-1772474400@rotaryportsmouthnorth.co.uk
SUMMARY:Club Council Meeting
DESCRIPTION:Club Council Meeting\, Venue TBC
URL:https://rotaryportsmouthnorth.co.uk/event/club-council-meeting-9
LOCATION:41 Bowes Hill \,Rowlands Castle
END:VEVENT
END:VCALENDAR